BEGIN:VCALENDAR
VERSION:2.0
PRODID:-//CiviCRM//NONSGML CiviEvent iCal//EN
X-WR-TIMEZONE:Europe/London
METHOD:PUBLISH
BEGIN:VTIMEZONE
TZID:Europe/London
BEGIN:DAYLIGHT
TZOFFSETFROM:+0100
TZOFFSETTO:+0100
TZNAME:BST
DTSTART:20260617T180000
END:DAYLIGHT
END:VTIMEZONE
BEGIN:VEVENT
UID:CiviCRM_EventID_843_bbdb127ccdac62795c6ba5e189e2148e@www.wcomc.org
SUMMARY:Education Supper & Admissions Ceremony
X-ALT-DESC;FMTTYPE=text/html:<!DOCTYPE HTML PUBLIC
  "-//W3C//DTD HTML 3.2//EN"><html><body><h2 style=
 "font-style:italic\;">  <br />\n Education Supper 
 & Admissions Ceremony</h2>\n \n <h2 style="font-st
 yle:italic\;">Please Save the Date</h2>\n \n <p st
 yle="text-align:justify\;"> </p>\n \n <p style="te
 xt-align:justify\;">Please note that payment for t
 his event will be processed by Stripe <em>(debit/c
 redit card)</em>.</p>\n \n <p style="text-align:ju
 stify\;"><span style="color:#FF0000\;">Dress code 
 is "Business Attire" </span></p></body></html>
DESCRIPTION:  \n \n Education Supper & Admissions Ceremony\n \
 n \n Please Save the Date\n \n \n  \n \n \n \n Ple
 ase note that payment for this event will be proce
 ssed by Stripe (debit/credit card).\n \n \n \n Dre
 ss code is "Business Attire" \n \n 
CATEGORIES:Supper
CALSCALE:GREGORIAN
DTSTAMP;TZID=Europe/London:20260617T180000
DTSTART;TZID=Europe/London:20260617T180000
DTEND;TZID=Europe/London:20260617T223000
LOCATION:Bakers' Hall\n 7 Harp Lane\n London\, EC3R 6DP\n U
 nited Kingdom\n 
URL:https://www.wcomc.org/civicrm/event/info?reset=1&id=843
END:VEVENT
END:VCALENDAR
