BEGIN:VCALENDAR
VERSION:2.0
PRODID:-//CiviCRM//NONSGML CiviEvent iCal//EN
X-WR-TIMEZONE:Europe/London
METHOD:PUBLISH
BEGIN:VTIMEZONE
TZID:Europe/London
BEGIN:DAYLIGHT
TZOFFSETFROM:+0100
TZOFFSETTO:+0100
TZNAME:BST
DTSTART:20260915T150000
END:DAYLIGHT
END:VTIMEZONE
BEGIN:VEVENT
UID:CiviCRM_EventID_845_bbdb127ccdac62795c6ba5e189e2148e@www.wcomc.org
SUMMARY:Election Court Meeting\, Church Service & Receptio
 n
X-ALT-DESC;FMTTYPE=text/html:<!DOCTYPE HTML PUBLIC
  "-//W3C//DTD HTML 3.2//EN"><html><body><h2 style=
 "font-style:italic\;">  <br />\n Election Court Me
 eting\, Church Service and Reception</h2>\n \n <h2
  style="font-style:italic\;">Please Save the Date<
 /h2>\n <!--  This is the default style:  <p style=
 "text-align:justify"> -->\n \n <p style="text-alig
 n:justify"> </p>\n \n <p style="text-align:justify
 ">Please note that payment for this event will be 
 processed by Stripe <em>(debit/credit card)</em>.<
 /p>\n \n <p style="text-align:justify"><span style
 ="color:#FF0000\;">Dress code is "Business Attire"
  </span></p></body></html>
DESCRIPTION:  \n \n Election Court Meeting\, Church Service an
 d Reception\n \n \n Please Save the Date\n \n \n \
 n  \n \n \n \n Please note that payment for this e
 vent will be processed by Stripe (debit/credit car
 d).\n \n \n \n Dress code is "Business Attire" \n 
 \n 
CATEGORIES:Reception
CALSCALE:GREGORIAN
DTSTAMP;TZID=Europe/London:20260915T150000
DTSTART;TZID=Europe/London:20260915T150000
DTEND;TZID=Europe/London:20260915T203000
LOCATION:TBC:  to be confirmed\n United Kingdom\n 
URL:https://www.wcomc.org/civicrm/event/info?reset=1&id=845
END:VEVENT
END:VCALENDAR
