BEGIN:VCALENDAR
VERSION:2.0
PRODID:-//CiviCRM//NONSGML CiviEvent iCal//EN
X-WR-TIMEZONE:Europe/London
METHOD:PUBLISH
BEGIN:VTIMEZONE
TZID:Europe/London
BEGIN:DAYLIGHT
TZOFFSETFROM:+0100
TZOFFSETTO:+0100
TZNAME:BST
DTSTART:20260927T120000
END:DAYLIGHT
END:VTIMEZONE
BEGIN:VEVENT
UID:CiviCRM_EventID_846_bbdb127ccdac62795c6ba5e189e2148e@www.wcomc.org
SUMMARY:Sheep Drive\, Livery Fair & Lunch
X-ALT-DESC;FMTTYPE=text/html:<!DOCTYPE HTML PUBLIC
  "-//W3C//DTD HTML 3.2//EN"><html><body><h2 style=
 "font-style:italic\;">  <br />\n Sheep Drive\, Liv
 ery Fair & Lunch</h2>\n \n <h2 style="font-style:i
 talic\;">Please Save the Date</h2>\n <!--  This is
  the default style:  <p style="text-align:justify"
 > -->\n \n <p style="text-align:justify"> </p>\n \
 n <p style="text-align:justify">Please note that p
 ayment for this event will be processed by Stripe 
 <em>(debit/credit card)</em>.</p>\n \n <p style="t
 ext-align:justify"><span style="color:#FF0000\;">D
 ress code is "Business Attire" </span></p></body><
 /html>
DESCRIPTION:  \n \n Sheep Drive\, Livery Fair & Lunch\n \n \n 
 Please Save the Date\n \n \n \n  \n \n \n \n Pleas
 e note that payment for this event will be process
 ed by Stripe (debit/credit card).\n \n \n \n Dress
  code is "Business Attire" \n \n 
CATEGORIES:City Event
CALSCALE:GREGORIAN
DTSTAMP;TZID=Europe/London:20260927T120000
DTSTART;TZID=Europe/London:20260927T120000
DTEND;TZID=Europe/London:20260927T150000
LOCATION:TBC:  to be confirmed\n United Kingdom\n 
URL:https://www.wcomc.org/civicrm/event/info?reset=1&id=846
END:VEVENT
END:VCALENDAR
