BEGIN:VCALENDAR
VERSION:2.0
PRODID:-//CiviCRM//NONSGML CiviEvent iCal//EN
X-WR-TIMEZONE:Europe/London
METHOD:PUBLISH
BEGIN:VTIMEZONE
TZID:Europe/London
BEGIN:DAYLIGHT
TZOFFSETFROM:+0100
TZOFFSETTO:+0100
TZNAME:BST
DTSTART:20260928T120000
END:DAYLIGHT
END:VTIMEZONE
BEGIN:VEVENT
UID:CiviCRM_EventID_847_bbdb127ccdac62795c6ba5e189e2148e@www.wcomc.org
SUMMARY:Election of Lord Mayor & Lunch
X-ALT-DESC;FMTTYPE=text/html:<!DOCTYPE HTML PUBLIC
  "-//W3C//DTD HTML 3.2//EN"><html><body><h2 style=
 "font-style:italic\;">  <br />\n Election of Lord 
 Mayor & Lunch</h2>\n \n <h2 style="font-style:ital
 ic\;">Please Save the Date</h2>\n <!--  This is th
 e default style:  <p style="text-align:justify"> -
 ->\n \n <p style="text-align:justify"> </p>\n \n <
 p style="text-align:justify">Please note that paym
 ent for this event will be processed by Stripe <em
 >(debit/credit card)</em>.</p>\n \n <p style="text
 -align:justify"><span style="color:#FF0000\;">Dres
 s code is "Business Attire" </span></p></body></ht
 ml>
DESCRIPTION:  \n \n Election of Lord Mayor & Lunch\n \n \n Ple
 ase Save the Date\n \n \n \n  \n \n \n \n Please n
 ote that payment for this event will be processed 
 by Stripe (debit/credit card).\n \n \n \n Dress co
 de is "Business Attire" \n \n 
CATEGORIES:City Event
CALSCALE:GREGORIAN
DTSTAMP;TZID=Europe/London:20260928T120000
DTSTART;TZID=Europe/London:20260928T120000
DTEND;TZID=Europe/London:20260928T150000
LOCATION:Guildhall\n Gresham St\n London\, EC2V 7HH\n 
URL:https://www.wcomc.org/civicrm/event/info?reset=1&id=847
END:VEVENT
END:VCALENDAR
