BEGIN:VCALENDAR
VERSION:2.0
PRODID:-//CiviCRM//NONSGML CiviEvent iCal//EN
X-WR-TIMEZONE:Europe/London
METHOD:PUBLISH
BEGIN:VTIMEZONE
TZID:Europe/London
BEGIN:DAYLIGHT
TZOFFSETFROM:+0100
TZOFFSETTO:+0100
TZNAME:BST
DTSTART:20260722T000000
END:DAYLIGHT
END:VTIMEZONE
BEGIN:VEVENT
UID:CiviCRM_EventID_859_bbdb127ccdac62795c6ba5e189e2148e@www.wcomc.org
SUMMARY:Summer Celebration 2026
X-ALT-DESC;FMTTYPE=text/html:<!DOCTYPE HTML PUBLIC
  "-//W3C//DTD HTML 3.2//EN"><html><body><h2 style=
 "font-style:italic\;">​Summer Celebration 2026</h2
 >\n \n <h3>Please Save the Date</h3>\n \n <p style
 ="text-align:justify\;">We look forward to you joi
 ning us on HMS President in July.</p></body></html
 >
DESCRIPTION:​Summer Celebration 2026\n \n \n Please Save the D
 ate\n \n \n We look forward to you joining us on H
 MS President in July.\n \n 
CATEGORIES:Reception
CALSCALE:GREGORIAN
DTSTAMP;TZID=Europe/London:20260722T000000
DTSTART;TZID=Europe/London:20260722T000000
DTEND;TZID=Europe/London:20260722T000000
LOCATION:HMS PRESIDENT\n 72 St Katharine's Way\n London\, E
 1W-1UQ\n United Kingdom\n 
URL:https://www.wcomc.org/civicrm/event/info?reset=1&id=859
END:VEVENT
END:VCALENDAR
