BEGIN:VCALENDAR
VERSION:2.0
PRODID:-//CiviCRM//NONSGML CiviEvent iCal//EN
X-WR-TIMEZONE:Europe/London
METHOD:PUBLISH
BEGIN:VTIMEZONE
TZID:Europe/London
BEGIN:DAYLIGHT
TZOFFSETFROM:+0100
TZOFFSETTO:+0100
TZNAME:BST
DTSTART:20261014T180000
END:DAYLIGHT
END:VTIMEZONE
BEGIN:VEVENT
UID:CiviCRM_EventID_861_bbdb127ccdac62795c6ba5e189e2148e@www.wcomc.org
SUMMARY:Installation Dinner 2026
X-ALT-DESC;FMTTYPE=text/html:<!DOCTYPE HTML PUBLIC
  "-//W3C//DTD HTML 3.2//EN"><html><body><h2 style=
 "font-style:italic\;">  <br />\n Installation Dinn
 er 2026</h2>\n \n <h2 style="font-style:italic\;">
 Please Save the Date</h2>\n \n <p style="text-alig
 n:justify\;">The New Master's Installatioin Dinner
  2026.</p>\n \n <p style="text-align:justify\;">Fu
 rther details will be given nearer the date.</p>\n
  \n <p style="text-align:justify\;">Please note th
 at payment for this event will be processed by Str
 ipe <em>(debit/credit card)</em>.</p>\n \n <p styl
 e="text-align:justify\;"><span style="color:#FF000
 0\;">Dress code is:  "Black Tie" </span></p></body
 ></html>
DESCRIPTION:  \n \n Installation Dinner 2026\n \n \n Please Sa
 ve the Date\n \n \n The New Master's Installatioin
  Dinner 2026.\n \n \n \n Further details will be g
 iven nearer the date.\n \n \n \n Please note that 
 payment for this event will be processed by Stripe
  (debit/credit card).\n \n \n \n Dress code is:  "
 Black Tie" \n \n 
CATEGORIES:Dinner
CALSCALE:GREGORIAN
DTSTAMP;TZID=Europe/London:20261014T180000
DTSTART;TZID=Europe/London:20261014T180000
DTEND;TZID=Europe/London:20261014T223000
LOCATION:TBC:  to be confirmed\n United Kingdom\n 
URL:https://www.wcomc.org/civicrm/event/info?reset=1&id=861
END:VEVENT
END:VCALENDAR
